BEGIN:VCALENDAR
VERSION:2.0
PRODID:-//Lawrence Brewers Guild - ECPv6.15.20//NONSGML v1.0//EN
CALSCALE:GREGORIAN
METHOD:PUBLISH
X-ORIGINAL-URL:http://www.lawrencebrewers.org
X-WR-CALDESC:Events for Lawrence Brewers Guild
REFRESH-INTERVAL;VALUE=DURATION:PT1H
X-Robots-Tag:noindex
X-PUBLISHED-TTL:PT1H
BEGIN:VTIMEZONE
TZID:America/Chicago
BEGIN:DAYLIGHT
TZOFFSETFROM:-0600
TZOFFSETTO:-0500
TZNAME:CDT
DTSTART:20200308T080000
END:DAYLIGHT
BEGIN:STANDARD
TZOFFSETFROM:-0500
TZOFFSETTO:-0600
TZNAME:CST
DTSTART:20201101T070000
END:STANDARD
BEGIN:DAYLIGHT
TZOFFSETFROM:-0600
TZOFFSETTO:-0500
TZNAME:CDT
DTSTART:20210314T080000
END:DAYLIGHT
BEGIN:STANDARD
TZOFFSETFROM:-0500
TZOFFSETTO:-0600
TZNAME:CST
DTSTART:20211107T070000
END:STANDARD
BEGIN:DAYLIGHT
TZOFFSETFROM:-0600
TZOFFSETTO:-0500
TZNAME:CDT
DTSTART:20220313T080000
END:DAYLIGHT
BEGIN:STANDARD
TZOFFSETFROM:-0500
TZOFFSETTO:-0600
TZNAME:CST
DTSTART:20221106T070000
END:STANDARD
BEGIN:DAYLIGHT
TZOFFSETFROM:-0600
TZOFFSETTO:-0500
TZNAME:CDT
DTSTART:20230312T080000
END:DAYLIGHT
BEGIN:STANDARD
TZOFFSETFROM:-0500
TZOFFSETTO:-0600
TZNAME:CST
DTSTART:20231105T070000
END:STANDARD
BEGIN:DAYLIGHT
TZOFFSETFROM:-0600
TZOFFSETTO:-0500
TZNAME:CDT
DTSTART:20240310T080000
END:DAYLIGHT
BEGIN:STANDARD
TZOFFSETFROM:-0500
TZOFFSETTO:-0600
TZNAME:CST
DTSTART:20241103T070000
END:STANDARD
BEGIN:DAYLIGHT
TZOFFSETFROM:-0600
TZOFFSETTO:-0500
TZNAME:CDT
DTSTART:20250309T080000
END:DAYLIGHT
BEGIN:STANDARD
TZOFFSETFROM:-0500
TZOFFSETTO:-0600
TZNAME:CST
DTSTART:20251102T070000
END:STANDARD
BEGIN:DAYLIGHT
TZOFFSETFROM:-0600
TZOFFSETTO:-0500
TZNAME:CDT
DTSTART:20260308T080000
END:DAYLIGHT
BEGIN:STANDARD
TZOFFSETFROM:-0500
TZOFFSETTO:-0600
TZNAME:CST
DTSTART:20261101T070000
END:STANDARD
BEGIN:DAYLIGHT
TZOFFSETFROM:-0600
TZOFFSETTO:-0500
TZNAME:CDT
DTSTART:20270314T080000
END:DAYLIGHT
BEGIN:STANDARD
TZOFFSETFROM:-0500
TZOFFSETTO:-0600
TZNAME:CST
DTSTART:20271107T070000
END:STANDARD
END:VTIMEZONE
BEGIN:VTIMEZONE
TZID:UTC
BEGIN:STANDARD
TZOFFSETFROM:+0000
TZOFFSETTO:+0000
TZNAME:UTC
DTSTART:20180101T000000
END:STANDARD
END:VTIMEZONE
BEGIN:VTIMEZONE
TZID:America/New_York
BEGIN:DAYLIGHT
TZOFFSETFROM:-0500
TZOFFSETTO:-0400
TZNAME:EDT
DTSTART:20190310T070000
END:DAYLIGHT
BEGIN:STANDARD
TZOFFSETFROM:-0400
TZOFFSETTO:-0500
TZNAME:EST
DTSTART:20191103T060000
END:STANDARD
BEGIN:DAYLIGHT
TZOFFSETFROM:-0500
TZOFFSETTO:-0400
TZNAME:EDT
DTSTART:20200308T070000
END:DAYLIGHT
BEGIN:STANDARD
TZOFFSETFROM:-0400
TZOFFSETTO:-0500
TZNAME:EST
DTSTART:20201101T060000
END:STANDARD
BEGIN:DAYLIGHT
TZOFFSETFROM:-0500
TZOFFSETTO:-0400
TZNAME:EDT
DTSTART:20210314T070000
END:DAYLIGHT
BEGIN:STANDARD
TZOFFSETFROM:-0400
TZOFFSETTO:-0500
TZNAME:EST
DTSTART:20211107T060000
END:STANDARD
END:VTIMEZONE
BEGIN:VEVENT
DTSTART;VALUE=DATE:20260307
DTEND;VALUE=DATE:20260308
DTSTAMP:20260423T044829
CREATED:20260108T172946Z
LAST-MODIFIED:20260108T172946Z
UID:3862-1772841600-1772927999@www.lawrencebrewers.org
SUMMARY:Kansas Craft Brewers Expo
DESCRIPTION:
URL:http://www.lawrencebrewers.org/event/kansas-craft-brewers-expo-4/
LOCATION:Abe & Jake’s Landing\, 8 E. Sixth St.\, Lawrence\, Kansas\, 66044
CATEGORIES:Event
END:VEVENT
BEGIN:VEVENT
DTSTART;TZID=America/Chicago:20251206T180000
DTEND;TZID=America/Chicago:20251206T230000
DTSTAMP:20260423T044829
CREATED:20250610T174419Z
LAST-MODIFIED:20251206T153526Z
UID:3584-1765044000-1765062000@www.lawrencebrewers.org
SUMMARY:Holiday Party
DESCRIPTION:
URL:http://www.lawrencebrewers.org/event/holiday-party-4/
LOCATION:Unitarian Universalist Congregation of Lawrence\, 1263 N. 1100 Road\, Lawrence\, KS\, 66047\, United States
CATEGORIES:Event
END:VEVENT
BEGIN:VEVENT
DTSTART;TZID=America/Chicago:20250927T120000
DTEND;TZID=America/Chicago:20250927T180000
DTSTAMP:20260423T044829
CREATED:20250610T174234Z
LAST-MODIFIED:20250610T174234Z
UID:3582-1758974400-1758996000@www.lawrencebrewers.org
SUMMARY:Dwight Burnham Memorial Brewfest XXIV
DESCRIPTION:
URL:http://www.lawrencebrewers.org/event/dwight-burnham-memorial-brewfest-xxiv-2/
LOCATION:Kansas
CATEGORIES:Event
END:VEVENT
BEGIN:VEVENT
DTSTART;TZID=America/Chicago:20250703T163000
DTEND;TZID=America/Chicago:20250703T190000
DTSTAMP:20260423T044829
CREATED:20250610T174502Z
LAST-MODIFIED:20250610T174502Z
UID:3587-1751560200-1751569200@www.lawrencebrewers.org
SUMMARY:Hoppy Hour
DESCRIPTION:
URL:http://www.lawrencebrewers.org/event/hoppy-hour-5/
LOCATION:Red Lyon Tavern\, 944 Massachusetts St.\, Lawrence\, 66044\, United States
CATEGORIES:Event
END:VEVENT
BEGIN:VEVENT
DTSTART;TZID=America/Chicago:20241207T180000
DTEND;TZID=America/Chicago:20241207T230000
DTSTAMP:20260423T044829
CREATED:20240111T190532Z
LAST-MODIFIED:20240111T230138Z
UID:3204-1733594400-1733612400@www.lawrencebrewers.org
SUMMARY:Holiday Party
DESCRIPTION:
URL:http://www.lawrencebrewers.org/event/holiday-party-3/
LOCATION:Kansas
CATEGORIES:Event
END:VEVENT
BEGIN:VEVENT
DTSTART;TZID=America/Chicago:20240928T120000
DTEND;TZID=America/Chicago:20240928T180000
DTSTAMP:20260423T044829
CREATED:20240111T164156Z
LAST-MODIFIED:20240111T164156Z
UID:3163-1727524800-1727546400@www.lawrencebrewers.org
SUMMARY:Dwight Burnham Memorial Brewfest XXVIII
DESCRIPTION:
URL:http://www.lawrencebrewers.org/event/dwight-burnham-memorial-brewfest-xxviii/
LOCATION:Kansas
CATEGORIES:Event
END:VEVENT
BEGIN:VEVENT
DTSTART;TZID=America/Chicago:20231202T180000
DTEND;TZID=America/Chicago:20231202T230000
DTSTAMP:20260423T044829
CREATED:20230112T043411Z
LAST-MODIFIED:20230112T043411Z
UID:2945-1701540000-1701558000@www.lawrencebrewers.org
SUMMARY:Holiday Party
DESCRIPTION:
URL:http://www.lawrencebrewers.org/event/holiday-party-2/
LOCATION:Kansas
CATEGORIES:Event
END:VEVENT
BEGIN:VEVENT
DTSTART;TZID=America/Chicago:20231007T120000
DTEND;TZID=America/Chicago:20231007T180000
DTSTAMP:20260423T044829
CREATED:20230112T043504Z
LAST-MODIFIED:20230112T043504Z
UID:2947-1696680000-1696701600@www.lawrencebrewers.org
SUMMARY:Dwight Burnham Memorial Brewfest XXVII
DESCRIPTION:
URL:http://www.lawrencebrewers.org/event/dwight-burnham-memorial-brewfest-xxvii/
LOCATION:Kansas
CATEGORIES:Event
END:VEVENT
BEGIN:VEVENT
DTSTART;TZID=America/Chicago:20230520T150000
DTEND;TZID=America/Chicago:20230520T220000
DTSTAMP:20260423T044829
CREATED:20230510T012207Z
LAST-MODIFIED:20230510T012207Z
UID:3005-1684594800-1684620000@www.lawrencebrewers.org
SUMMARY:Pints for Pets
DESCRIPTION:
URL:http://www.lawrencebrewers.org/event/pints-for-pets-3/
LOCATION:Kansas
CATEGORIES:Event
END:VEVENT
BEGIN:VEVENT
DTSTART;TZID=America/Chicago:20221203T180000
DTEND;TZID=America/Chicago:20221203T230000
DTSTAMP:20260423T044829
CREATED:20220113T152938Z
LAST-MODIFIED:20220113T152938Z
UID:2606-1670090400-1670108400@www.lawrencebrewers.org
SUMMARY:Holiday Party
DESCRIPTION:
URL:http://www.lawrencebrewers.org/event/holiday-party/
LOCATION:Kansas
CATEGORIES:Event
END:VEVENT
BEGIN:VEVENT
DTSTART;TZID=America/Chicago:20221022T160000
DTEND;TZID=America/Chicago:20221022T200000
DTSTAMP:20260423T044829
CREATED:20221013T141829Z
LAST-MODIFIED:20221013T141829Z
UID:2868-1666454400-1666468800@www.lawrencebrewers.org
SUMMARY:Haunted Hop Luck
DESCRIPTION:
URL:http://www.lawrencebrewers.org/event/haunted-hop-luck-2/
LOCATION:Sokol Park\, Lenexa\, KS
CATEGORIES:Event
END:VEVENT
BEGIN:VEVENT
DTSTART;TZID=America/Chicago:20220924T120000
DTEND;TZID=America/Chicago:20220924T180000
DTSTAMP:20260423T044829
CREATED:20220113T152250Z
LAST-MODIFIED:20220113T152757Z
UID:2602-1664020800-1664042400@www.lawrencebrewers.org
SUMMARY:Dwight Burnham Memorial Brewfest XXVI
DESCRIPTION:
URL:http://www.lawrencebrewers.org/event/dwight-burnham-memorial-brewfest-xxvi/
LOCATION:Kansas
CATEGORIES:Event
END:VEVENT
BEGIN:VEVENT
DTSTART;TZID=America/Chicago:20220507T160000
DTEND;TZID=America/Chicago:20220507T220000
DTSTAMP:20260423T044829
CREATED:20220414T022341Z
LAST-MODIFIED:20220414T022341Z
UID:2681-1651939200-1651960800@www.lawrencebrewers.org
SUMMARY:Pints for Pets
DESCRIPTION:
URL:http://www.lawrencebrewers.org/event/pints-for-pets-2/
LOCATION:Kansas
CATEGORIES:Event
END:VEVENT
BEGIN:VEVENT
DTSTART;TZID=America/Chicago:20220430T130000
DTEND;TZID=America/Chicago:20220430T170000
DTSTAMP:20260423T044829
CREATED:20220113T152743Z
LAST-MODIFIED:20220113T152743Z
UID:2604-1651323600-1651338000@www.lawrencebrewers.org
SUMMARY:Parkville Microbrew Festival
DESCRIPTION:
URL:http://www.lawrencebrewers.org/event/parkville-microbrew-festival-4/
LOCATION:English Landing Park\, Parkville\, MO
CATEGORIES:Event
END:VEVENT
BEGIN:VEVENT
DTSTART;TZID=UTC:20211204T180000
DTEND;TZID=UTC:20211204T230000
DTSTAMP:20260423T044829
CREATED:20200104T084631Z
LAST-MODIFIED:20201111T234219Z
UID:2306-1638640800-1638658800@www.lawrencebrewers.org
SUMMARY:LBG Holiday Party
DESCRIPTION:Celebrate the holidays with the LBG!
URL:http://www.lawrencebrewers.org/event/lbg-holiday-party-4/
LOCATION:Kansas
CATEGORIES:Event
END:VEVENT
BEGIN:VEVENT
DTSTART;TZID=America/Chicago:20211023T100000
DTEND;TZID=America/Chicago:20211023T160000
DTSTAMP:20260423T044829
CREATED:20211014T005201Z
LAST-MODIFIED:20211014T005201Z
UID:2547-1634983200-1635004800@www.lawrencebrewers.org
SUMMARY:Homebrew Demo Day
DESCRIPTION:
URL:http://www.lawrencebrewers.org/event/homebrew-demo-day/
LOCATION:Cottin’s Hardware\, 1832 Massachusetts St.\, Lawrence\, KS
CATEGORIES:Event
END:VEVENT
BEGIN:VEVENT
DTSTART;TZID=America/Chicago:20211016T130000
DTEND;TZID=America/Chicago:20211016T170000
DTSTAMP:20260423T044829
CREATED:20211014T005120Z
LAST-MODIFIED:20211014T005311Z
UID:2545-1634389200-1634403600@www.lawrencebrewers.org
SUMMARY:Parkville Microwbrew Festival
DESCRIPTION:
URL:http://www.lawrencebrewers.org/event/parkville-microwbrew-festival/
LOCATION:English Landing Park\, Parkville\, MO
CATEGORIES:Event
END:VEVENT
BEGIN:VEVENT
DTSTART;TZID=America/Chicago:20211009T120000
DTEND;TZID=America/Chicago:20211009T180000
DTSTAMP:20260423T044829
CREATED:20201111T234148Z
LAST-MODIFIED:20201111T234148Z
UID:2448-1633780800-1633802400@www.lawrencebrewers.org
SUMMARY:Dwight Burnham Memorial Brewfest XXV
DESCRIPTION:
URL:http://www.lawrencebrewers.org/event/dwight-burnham-memorial-brewfest-xxv-2/
LOCATION:Kansas
CATEGORIES:Event
END:VEVENT
BEGIN:VEVENT
DTSTART;VALUE=DATE:20210501
DTEND;VALUE=DATE:20210502
DTSTAMP:20260423T044829
CREATED:20210408T165042Z
LAST-MODIFIED:20210408T165042Z
UID:2467-1619827200-1619913599@www.lawrencebrewers.org
SUMMARY:Virtual Big Brew Day
DESCRIPTION:
URL:http://www.lawrencebrewers.org/event/virtual-big-brew-day/
LOCATION:Kansas
CATEGORIES:Event
END:VEVENT
BEGIN:VEVENT
DTSTART;TZID=UTC:20201017T130000
DTEND;TZID=UTC:20201017T170000
DTSTAMP:20260423T044829
CREATED:20200210T232229Z
LAST-MODIFIED:20200319T210802Z
UID:2347-1602939600-1602954000@www.lawrencebrewers.org
SUMMARY:Parkville Microbrew Festival
DESCRIPTION:Buy tickets online at http://www.parkvillemicrobrewfest.com/
URL:http://www.lawrencebrewers.org/event/parkville-microbrew-festival-3/
LOCATION:English Landing Park\, Parkville\, MO
CATEGORIES:Event
END:VEVENT
BEGIN:VEVENT
DTSTART;TZID=UTC:20200926T120000
DTEND;TZID=UTC:20200926T180000
DTSTAMP:20260423T044829
CREATED:20200104T084424Z
LAST-MODIFIED:20200104T084424Z
UID:2304-1601121600-1601143200@www.lawrencebrewers.org
SUMMARY:Dwight Burnham Memorial Brewfest XXV
DESCRIPTION:The Dwight Burnham Memorial Brewfest XXV will be from noon to 6 p.m. Saturday\, Sept. 26\, at Clinton Lake.
URL:http://www.lawrencebrewers.org/event/dwight-burnham-memorial-brewfest-xxv/
LOCATION:Kansas
CATEGORIES:Event
END:VEVENT
BEGIN:VEVENT
DTSTART;TZID=UTC:20200502T090000
DTEND;TZID=UTC:20200502T180000
DTSTAMP:20260423T044829
CREATED:20200211T011624Z
LAST-MODIFIED:20200429T133417Z
UID:2355-1588410000-1588442400@www.lawrencebrewers.org
SUMMARY:Big Brew Day Brew-Off & LBG Maifest
DESCRIPTION:We’re taking Maifest Virtual!\nPop in Saturday to our Zoom call and share your brew day\, we’d love to see all of the LBG! \n \n\nMaifest “Registration”: https://forms.gle/HAfgjHaXRYV6LuTG9\nForum Link: https://www.lawrencebrewers.org/lbgforum/viewtopic.php?f=5&t=4526\nFacebook event link coming soon\nZOOM Join URL: https://us02web.zoom.us/j/84233515816\n\n  \nhttps://www.homebrewersassociation.org/aha-events/national-homebrew-day/ \nAHA put out a couple recipes to try \n\nOfficial Recipe: Pangaea Proxima Polar IPA\nAlternative Option: Quarantine American IPA
URL:http://www.lawrencebrewers.org/event/big-brew-day-brew-off-lbg-maifest-2/
LOCATION:Online\, KS\, United States
CATEGORIES:Event
END:VEVENT
BEGIN:VEVENT
DTSTART;TZID=America/New_York:20200307T120000
DTEND;TZID=America/New_York:20200307T193000
DTSTAMP:20260423T044829
CREATED:20200210T232158Z
LAST-MODIFIED:20200211T011418Z
UID:2345-1583582400-1583609400@www.lawrencebrewers.org
SUMMARY:Kansas Craft Brewers Expo
DESCRIPTION:
URL:http://www.lawrencebrewers.org/event/kansas-craft-brewers-expo-3/
LOCATION:Abe & Jake’s Landing\, 8 E. Sixth St.\, Lawrence\, Kansas\, 66044
CATEGORIES:Event
END:VEVENT
BEGIN:VEVENT
DTSTART;VALUE=DATE:20200223
DTEND;VALUE=DATE:20200224
DTSTAMP:20260423T044829
CREATED:20200210T232353Z
LAST-MODIFIED:20200210T232353Z
UID:2349-1582416000-1582502399@www.lawrencebrewers.org
SUMMARY:Collab Brew Day at Servaes
DESCRIPTION:To celebrate the one-year anniversary of Servaes Brewing Co. and the 25-year anniversary of the Lawrence Brewers Guild\, we invite you to a collaborative brew day at Servaes! \nThe brew day will be at 10921 Johnson Drive in downtown Shawnee. All LBG paid members are welcome to attend. We’ll be brewing an imperial stout. A portion of the beer will be on tap the weekend of Servaes’ first anniversary in late April. The rest of the beer will be aged in a barrel and served at the Dwight Burnham Memorial Brewfest XXV on Saturday\, Sept. 26. \nThose who participate at the brew day can give input on the recipe\, how the beer is adjuncted\, the type of barrel it’s aged in\, etc.
URL:http://www.lawrencebrewers.org/event/collab-brew-day-at-servaes/
LOCATION:Servaes Brewing Co.\, 10921 Johnson Drive\, Shawnee\, KS
CATEGORIES:Event
END:VEVENT
BEGIN:VEVENT
DTSTART;TZID=UTC:20191207T180000
DTEND;TZID=UTC:20191207T230000
DTSTAMP:20260423T044829
CREATED:20190117T101223Z
LAST-MODIFIED:20190117T101223Z
UID:1894-1575741600-1575759600@www.lawrencebrewers.org
SUMMARY:LBG Holiday Party
DESCRIPTION:Celebrate the holidays with the LBG!
URL:http://www.lawrencebrewers.org/event/lbg-holiday-party-3/
LOCATION:Kansas
CATEGORIES:Event
END:VEVENT
BEGIN:VEVENT
DTSTART;TZID=UTC:20191102T100000
DTEND;TZID=UTC:20191102T160000
DTSTAMP:20260423T044829
CREATED:20191023T205245Z
LAST-MODIFIED:20191023T205245Z
UID:2237-1572688800-1572710400@www.lawrencebrewers.org
SUMMARY:Learn to Homebrew Day - Olathe
DESCRIPTION:Learn all about homebrewing and resources available locally! Mingle with homebrewers and ask questions.
URL:http://www.lawrencebrewers.org/event/learn-to-homebrew-day-olathe/
LOCATION:Homebrew Pro Shoppe\, 2061 E. Santa Fe St.\, Olathe\, KS\, 66062\, United States
CATEGORIES:Event
END:VEVENT
BEGIN:VEVENT
DTSTART;TZID=UTC:20191102T100000
DTEND;TZID=UTC:20191102T160000
DTSTAMP:20260423T044829
CREATED:20191023T205153Z
LAST-MODIFIED:20191023T205203Z
UID:2234-1572688800-1572710400@www.lawrencebrewers.org
SUMMARY:Learn to Homebrew Day - Lawrence
DESCRIPTION:Learn all about homebrewing and resources available locally! Mingle with homebrewers and ask questions.
URL:http://www.lawrencebrewers.org/event/learn-to-homebrew-day-lawrence/
LOCATION:Cottin’s Hardware\, 1832 Massachusetts St.\, Lawrence\, KS
CATEGORIES:Event
END:VEVENT
BEGIN:VEVENT
DTSTART;TZID=UTC:20190928T120000
DTEND;TZID=UTC:20190928T180000
DTSTAMP:20260423T044829
CREATED:20190117T101054Z
LAST-MODIFIED:20190117T101054Z
UID:1892-1569672000-1569693600@www.lawrencebrewers.org
SUMMARY:Dwight Burnham Memorial Brewfest XXIV
DESCRIPTION:The Dwight Burnham Memorial Brewfest XXIV will be from noon to 6 p.m. Saturday\, Sept. 28\, at Clinton Lake.
URL:http://www.lawrencebrewers.org/event/dwight-burnham-memorial-brewfest-xxiv/
LOCATION:Kansas
CATEGORIES:Event
END:VEVENT
BEGIN:VEVENT
DTSTART;VALUE=DATE:20190921
DTEND;VALUE=DATE:20190922
DTSTAMP:20260423T044829
CREATED:20190807T211438Z
LAST-MODIFIED:20190807T211438Z
UID:2151-1569024000-1569110399@www.lawrencebrewers.org
SUMMARY:Festival of the Lost Township
DESCRIPTION:
URL:http://www.lawrencebrewers.org/event/festival-of-the-lost-township/
LOCATION:Kansas
CATEGORIES:Event
END:VEVENT
BEGIN:VEVENT
DTSTART;VALUE=DATE:20190824
DTEND;VALUE=DATE:20190825
DTSTAMP:20260423T044829
CREATED:20190807T211817Z
LAST-MODIFIED:20190807T211817Z
UID:2153-1566604800-1566691199@www.lawrencebrewers.org
SUMMARY:Homebrewer Day at Kansas Hop Co.
DESCRIPTION:I’d like to invite you and your homebrew club members to the 2nd Annual Homebrewer Day at Kansas Hop Company. This is an opportunity to brew on site in our hop yard with wet hops freshly picked the same day.\n\nThere is a $10 cash fee for all participating brewers. That will include a pound of freshly picked wet hops (likely our Kansas Chinook/Kanook variety that has grapefruit\, pineapple\, and melon notes) and 4oz. of Columbus pellets that you can use for a bittering charge. The brewers that participated last year all made 5 gallon batches. Wet hops lose a lot of their amazing aromas in an extended boil so I’d recommend using them at flameout\, during whirlpool\, etc…You are welcome to bring additional supplemental hops from home if you’d like to incorporate them into your recipe.\nFor those that just want to come down to the hop farm and hang out\, but not brew\, there is no fee.\nIf you are planning to brew on site you’ll need to bring your brewing rig\, a canopy if you want some shade\, a chair if you’d like to sit\, the water you’ll be brewing with\, a mesh bag/strainer for the wet hops if you want to keep things clean\, a sack lunch\, and some beverages to enjoy while brewing. Last year the brewers cooled their batches down with a chiller using our garden hose so you’ll need to bring your own if you’d like to lower your temps before heading home.\nPlease RSVP with the number of folks that plan on brewing by Monday August 19th.\nPlan to start brewing around 10am. We should have the hops picked and sorted by then. You can arrive anytime after 9am to begin setting up your rig.\nEmail ryan@kansashopco.com or text (913) 449-6683 to RSVP or if you have any questions.
URL:http://www.lawrencebrewers.org/event/homebrewer-day-at-kansas-hop-co/
LOCATION:Kansas Hop Co.\, 1865 Kingman Road\, Ottawa\, KS
CATEGORIES:Event
END:VEVENT
END:VCALENDAR