BEGIN:VCALENDAR
VERSION:2.0
PRODID:-//Lawrence Brewers Guild - ECPv6.15.20//NONSGML v1.0//EN
CALSCALE:GREGORIAN
METHOD:PUBLISH
X-ORIGINAL-URL:http://www.lawrencebrewers.org
X-WR-CALDESC:Events for Lawrence Brewers Guild
REFRESH-INTERVAL;VALUE=DURATION:PT1H
X-Robots-Tag:noindex
X-PUBLISHED-TTL:PT1H
BEGIN:VTIMEZONE
TZID:UTC
BEGIN:STANDARD
TZOFFSETFROM:+0000
TZOFFSETTO:+0000
TZNAME:UTC
DTSTART:20160101T000000
END:STANDARD
END:VTIMEZONE
BEGIN:VEVENT
DTSTART;VALUE=DATE:20190817
DTEND;VALUE=DATE:20190818
DTSTAMP:20260421T093702
CREATED:20190807T211335Z
LAST-MODIFIED:20190807T211335Z
UID:2149-1566000000-1566086399@www.lawrencebrewers.org
SUMMARY:Hip Hops Hooray
DESCRIPTION:
URL:http://www.lawrencebrewers.org/event/hip-hops-hooray/
CATEGORIES:Event
END:VEVENT
BEGIN:VEVENT
DTSTART;TZID=UTC:20190511T160000
DTEND;TZID=UTC:20190511T220000
DTSTAMP:20260421T093702
CREATED:20190326T212422Z
LAST-MODIFIED:20190326T212422Z
UID:1992-1557590400-1557612000@www.lawrencebrewers.org
SUMMARY:Pints for Pets
DESCRIPTION:Join us for an evening of fun\, live music\, food\, and beer! We will have Mexican food again this year (taco bar\, nachos\, and stuffed peppers). Kid-friendly with bounce house. Bring a lawn chair if you think about it and please leave pets at home. We love pets\, but even the best pet can get stressed at a party. Feel free to bring a friend or two!
URL:http://www.lawrencebrewers.org/event/pints-for-pets/
CATEGORIES:Event
END:VEVENT
BEGIN:VEVENT
DTSTART;TZID=UTC:20190504T090000
DTEND;TZID=UTC:20190504T160000
DTSTAMP:20260421T093702
CREATED:20190225T090750Z
LAST-MODIFIED:20190225T090750Z
UID:1948-1556960400-1556985600@www.lawrencebrewers.org
SUMMARY:Big Brew Day Brew-Off & LBG Maifest
DESCRIPTION:Maifest\, one of the LBG’s annual events\, is just around the corner! This year Maifest coincides with our second Big Brew Day Brew-Off competition awards ceremony! Winners will be announced at 2 p.m. that day. Stay tuned for details on raffle prizes available for those present! \nLawrence Creates Makerspace will provide:\n• Space (outdoor and indoor) for everyone to hang out\, brew\, eat\, laugh\, etc.\n• Power and water for brewing\, we will be able to brew outside! Looking forward to nice weather\nThe Makerspace will remain open to members to use the workspace\, but we will have use of the main area and the outdoor space \nLBG will provide:\n• Meat\n• Tableware\n• Taps for your kegs (if you pre sign up we can make sure to prep the tap box for your pinlock or ball lock) \nWhat to bring:\n• Side dishes (nothing needing refrigeration)\n• Homebrew and/or other beverages\n• Lawn chairs or folding chairs\n• Your equipment and ingredients to brew. This is optional but hope you will! \nSign up for side dishes here in the forum or via SignUpGenius: https://www.signupgenius.com/go/4090f44acac2fa7ff2-maifest \nOptional Maifest keg signup here in the forum or via Google Forms: https://docs.google.com/forms/d/1mel6MS8030Z12Aog0wRiC17FW39U_8GQsJASsgSAxEk/viewform?edit_requested=true
URL:http://www.lawrencebrewers.org/event/big-brew-day-brew-off-lbg-maifest/
LOCATION:Lawrence Creates Makerspace\, 512 E. Ninth St.\, Lawrence
CATEGORIES:Event
END:VEVENT
BEGIN:VEVENT
DTSTART;TZID=UTC:20190427T130000
DTEND;TZID=UTC:20190427T170000
DTSTAMP:20260421T093702
CREATED:20190117T101600Z
LAST-MODIFIED:20190117T101600Z
UID:1896-1556370000-1556384400@www.lawrencebrewers.org
SUMMARY:Parkville Microbrew Festival
DESCRIPTION:
URL:http://www.lawrencebrewers.org/event/parkville-microbrew-festival-2/
LOCATION:English Landing Park\, Parkville\, MO
CATEGORIES:Event
END:VEVENT
BEGIN:VEVENT
DTSTART;TZID=UTC:20190425T190000
DTEND;TZID=UTC:20190425T210000
DTSTAMP:20260421T093702
CREATED:20190225T085916Z
LAST-MODIFIED:20190225T085916Z
UID:1946-1556218800-1556226000@www.lawrencebrewers.org
SUMMARY:Big Brew Day Brew-Off Judging
DESCRIPTION:Register to steward or judge at http://lawrencebrewers.org/competition.
URL:http://www.lawrencebrewers.org/event/big-brew-day-brew-off-judging-2/
LOCATION:Free State Brewing Production Facility\, 1927 Moodie Road\, Lawrence\, KS\, 66046
CATEGORIES:Event
ATTACH;FMTTYPE=image/jpeg:http://www.lawrencebrewers.org/wp/wp-content/uploads/2019/02/LBGCompLogo.jpg
END:VEVENT
BEGIN:VEVENT
DTSTART;TZID=UTC:20190424T190000
DTEND;TZID=UTC:20190424T210000
DTSTAMP:20260421T093702
CREATED:20190225T085640Z
LAST-MODIFIED:20190225T085640Z
UID:1943-1556132400-1556139600@www.lawrencebrewers.org
SUMMARY:Big Brew Day Brew-Off Judging
DESCRIPTION:Register to steward or judge at http://lawrencebrewers.org/competition.
URL:http://www.lawrencebrewers.org/event/big-brew-day-brew-off-judging/
LOCATION:Free State Brewing Production Facility\, 1927 Moodie Road\, Lawrence\, KS\, 66046
CATEGORIES:Event
ATTACH;FMTTYPE=image/jpeg:http://www.lawrencebrewers.org/wp/wp-content/uploads/2019/02/LBGCompLogo.jpg
END:VEVENT
BEGIN:VEVENT
DTSTART;TZID=UTC:20190323T100000
DTEND;TZID=UTC:20190323T160000
DTSTAMP:20260421T093702
CREATED:20190226T084305Z
LAST-MODIFIED:20190226T084305Z
UID:1955-1553335200-1553356800@www.lawrencebrewers.org
SUMMARY:Social Brew Day
DESCRIPTION:Learn all about homebrewing and resources available locally! Mingle with homebrewers and ask questions.
URL:http://www.lawrencebrewers.org/event/social-brew-day/
LOCATION:Lawrence Creates Makerspace\, 512 E. Ninth St.\, Lawrence
CATEGORIES:Event
END:VEVENT
BEGIN:VEVENT
DTSTART;VALUE=DATE:20190302
DTEND;VALUE=DATE:20190303
DTSTAMP:20260421T093702
CREATED:20190117T100918Z
LAST-MODIFIED:20190117T100918Z
UID:1890-1551484800-1551571199@www.lawrencebrewers.org
SUMMARY:Kansas Craft Brewers Expo
DESCRIPTION:
URL:http://www.lawrencebrewers.org/event/kansas-craft-brewers-expo-2/
LOCATION:Abe & Jake’s Landing\, 8 E. Sixth St.\, Lawrence\, Kansas\, 66044
CATEGORIES:Event
END:VEVENT
BEGIN:VEVENT
DTSTART;TZID=UTC:20181208T180000
DTEND;TZID=UTC:20181208T230000
DTSTAMP:20260421T093702
CREATED:20181011T051357Z
LAST-MODIFIED:20181011T051519Z
UID:1776-1544292000-1544310000@www.lawrencebrewers.org
SUMMARY:LBG Holiday Party
DESCRIPTION:Celebrate the holidays with the LBG!
URL:http://www.lawrencebrewers.org/event/lbg-holiday-party-2/
CATEGORIES:Event
END:VEVENT
BEGIN:VEVENT
DTSTART;TZID=UTC:20181104T100000
DTEND;TZID=UTC:20181104T150000
DTSTAMP:20260421T093702
CREATED:20181011T054706Z
LAST-MODIFIED:20181011T054706Z
UID:1781-1541325600-1541343600@www.lawrencebrewers.org
SUMMARY:Women's Brew Day 2018
DESCRIPTION:Join a few of the LBG women for a brew day! We’ll begin at 10 a.m. Sunday\, Nov. 4\, at Courtney’s house in west Shawnee\, with plans to be wrapped up in the early afternoon. Cost will be split by the number of brewers. \nEven if you are not part of the group of women who determine the recipe and direction\, feel free to come\, hang out and watch the process! We’d love to have you! Courtney and Brandi will supply sandwiches for lunch. Please plan to bring a side/snack to go with it. Also\, bring any beer you wanna share! \nThanks to Courtney for opening up her home to us and letting us use her system! Message me with any questions. \nLocation: 21212 W. 46th St.\, Shawnee\, KS 66218
URL:http://www.lawrencebrewers.org/event/womens-brew-day-2018/
CATEGORIES:Event
END:VEVENT
BEGIN:VEVENT
DTSTART;TZID=UTC:20181103T100000
DTEND;TZID=UTC:20181103T150000
DTSTAMP:20260421T093702
CREATED:20181011T053448Z
LAST-MODIFIED:20181011T053448Z
UID:1778-1541239200-1541257200@www.lawrencebrewers.org
SUMMARY:Learn to Homebrew Day
DESCRIPTION:On the first Saturday in November\, thousands of people will gather at Learn to Homebrew Day sites worldwide to brew beer and and learn about the hobby of homebrewing. Join LBG members Ryan Metcalf and Tara and James Taylor at Homebrew Pro Shoppe to learn more about homebrewing and the LBG!
URL:http://www.lawrencebrewers.org/event/learn-to-homebrew-day/
LOCATION:Homebrew Pro Shoppe\, 2061 E. Santa Fe St.\, Olathe\, KS\, 66062\, United States
CATEGORIES:Event
END:VEVENT
BEGIN:VEVENT
DTSTART;TZID=UTC:20180922T120000
DTEND;TZID=UTC:20180922T180000
DTSTAMP:20260421T093702
CREATED:20180206T095105Z
LAST-MODIFIED:20180206T095105Z
UID:1510-1537617600-1537639200@www.lawrencebrewers.org
SUMMARY:Dwight Burnham Memorial Brewfest XXIII
DESCRIPTION:The Dwight Burnham Memorial Brewfest XXIII will be from noon to 6 p.m. Saturday\, Sept. 22\, at Clinton Lake.
URL:http://www.lawrencebrewers.org/event/dwight-burnham-memorial-brewfest-xxiii/
CATEGORIES:Event
END:VEVENT
BEGIN:VEVENT
DTSTART;TZID=UTC:20180505T090000
DTEND;TZID=UTC:20180505T170000
DTSTAMP:20260421T093702
CREATED:20180206T100910Z
LAST-MODIFIED:20180411T204553Z
UID:1526-1525510800-1525539600@www.lawrencebrewers.org
SUMMARY:Big Brew Day Brew-Off and LBG Maifest
DESCRIPTION:Maifest\, one of the LBG’s annual events\, is just around the corner! The day – known by the American Homebrewers Association as Big Brew – celebrates National Homebrew Day and takes place the first Saturday in May. In addition\, this year Maifest coincides with the club’s first Big Brew Day Brew-Off competition! Winners will be announced at 2 p.m. that day. Stay tuned for details on raffle prizes available for those present! \nWhen: 9 a.m to 5 p.m. Saturday\, May 5\nWhere: Yankee Tank Brewing\, 807 E. 23rd St.\, Lawrence \n\nYankee Tank will provide:\n• Space (outdoor and indoor) for everyone to hang out\, brew\, eat\, laugh\, etc.\n• Power and water for brewing. Also\, Angelo will have a tank of preheated strike water and a sink full of sanitizer for anyone to use! \nLBG will provide:\n• Sausage\, buns and condiments\n• Tableware\n• Taps for your kegs\n• Smoker rig if you have a pan of beans or something that needs smoke/heat (thanks\, Bruce!) \nWhat to bring:\n• Side dishes (nothing needing refrigeration)\n• Homebrew and/or other beverages\n• Lawn chairs\n• Your equipment and ingredients to brew. This is optional but hope you will. Keep it simple!
URL:http://www.lawrencebrewers.org/event/big-brew-day-brew-off/
LOCATION:Yankee Tank Brewing\, 807 E. 23rd St.\, Lawrence\, 66046\, United States
CATEGORIES:Event
END:VEVENT
BEGIN:VEVENT
DTSTART;TZID=UTC:20180428T130000
DTEND;TZID=UTC:20180428T170000
DTSTAMP:20260421T093702
CREATED:20180206T094713Z
LAST-MODIFIED:20180206T094713Z
UID:1507-1524920400-1524934800@www.lawrencebrewers.org
SUMMARY:Parkville Microbrew Festival
DESCRIPTION:
URL:http://www.lawrencebrewers.org/event/parkville-microbrew-festival/
LOCATION:English Landing Park\, Parkville\, MO
CATEGORIES:Event
END:VEVENT
BEGIN:VEVENT
DTSTART;VALUE=DATE:20180303
DTEND;VALUE=DATE:20180304
DTSTAMP:20260421T093702
CREATED:20171115T225225Z
LAST-MODIFIED:20171115T225225Z
UID:1380-1520035200-1520121599@www.lawrencebrewers.org
SUMMARY:Kansas Craft Brewers Expo
DESCRIPTION:
URL:http://www.lawrencebrewers.org/event/kansas-craft-brewers-expo/
LOCATION:Abe & Jake’s Landing\, 8 E. Sixth St.\, Lawrence\, Kansas\, 66044
CATEGORIES:Event
END:VEVENT
BEGIN:VEVENT
DTSTART;TZID=UTC:20171209T180000
DTEND;TZID=UTC:20171209T230000
DTSTAMP:20260421T093702
CREATED:20170620T193330Z
LAST-MODIFIED:20170620T193330Z
UID:1141-1512842400-1512860400@www.lawrencebrewers.org
SUMMARY:LBG Holiday Party
DESCRIPTION:Celebrate the holidays with the LBG!
URL:http://www.lawrencebrewers.org/event/lbg-holiday-party/
CATEGORIES:Event
END:VEVENT
BEGIN:VEVENT
DTSTART;TZID=UTC:20171112T100000
DTEND;TZID=UTC:20171112T150000
DTSTAMP:20260421T093702
CREATED:20171019T020427Z
LAST-MODIFIED:20171103T193902Z
UID:1328-1510480800-1510498800@www.lawrencebrewers.org
SUMMARY:Women's Brew Day
DESCRIPTION:Join a few of the LBG women for a brew day! We’ll begin at 10 a.m. Sunday\, Nov. 12\, at Courtney’s house in west Shawnee\, with plans to be wrapped up in the early afternoon. Cost will be split by the number of brewers. \nEven if you are not part of the group of women who determine the recipe and direction\, feel free to come\, hang out and watch the process! We’d love to have you! Please bring a side/snack for lunch. \nThanks to Courtney for opening up her home to us and letting us use her system!
URL:http://www.lawrencebrewers.org/event/womens-brew-day/
CATEGORIES:Event
END:VEVENT
BEGIN:VEVENT
DTSTART;TZID=UTC:20170930T120000
DTEND;TZID=UTC:20170930T180000
DTSTAMP:20260421T093702
CREATED:20170620T193104Z
LAST-MODIFIED:20170620T193104Z
UID:1139-1506772800-1506794400@www.lawrencebrewers.org
SUMMARY:Dwight Burnham Memorial Brewfest XXII
DESCRIPTION:Dwight Burnham Memorial Brewfest XXII will be from noon to 6 p.m. Saturday\, Sept. 30\, at Clinton Lake.
URL:http://www.lawrencebrewers.org/event/dwight-burnham-memorial-brewfest-xxii/
CATEGORIES:Event
END:VEVENT
BEGIN:VEVENT
DTSTART;TZID=UTC:20170603T103000
DTEND;TZID=UTC:20170603T160000
DTSTAMP:20260421T093702
CREATED:20170510T002307Z
LAST-MODIFIED:20170516T233027Z
UID:1075-1496485800-1496505600@www.lawrencebrewers.org
SUMMARY:Back Porch Brewing
DESCRIPTION:Learn all about homebrewing and resources available locally! Mingle with homebrewers and ask questions. We’ll be brewing an American pale ale\, a kit that is available for purchase at Ernst & Son.
URL:http://www.lawrencebrewers.org/event/back-porch-brewing/
LOCATION:Ernst & Son\, 826 Massachusetts St.\, Lawrece\, KS\, 66044\, United States
CATEGORIES:Event
END:VEVENT
BEGIN:VEVENT
DTSTART;TZID=UTC:20170506T090000
DTEND;TZID=UTC:20170506T170000
DTSTAMP:20260421T093702
CREATED:20170411T015744Z
LAST-MODIFIED:20170411T015744Z
UID:1027-1494061200-1494090000@www.lawrencebrewers.org
SUMMARY:LBG Maifest
DESCRIPTION:Maifest\, one of the LBG’s annual events\, is just around the corner! The day – known by the American Homebrewers Association as Big Brew – celebrates National Homebrew Day and takes place the first Saturday in May. \nYankee Tank will provide:\n• Space (outdoor and indoor) for everyone to hang out\, brew\, eat\, laugh\, etc.\n• Power and water for brewing. Also Angelo will have a tank of preheated strike water and a sink full of sanitizer for anyone to use! \nLBG will provide:\n• Sausage\, buns and condiments\n• Tableware\n• Tents and taps\n• Charcoal for grilling \nWhat to bring:\n• Side dishes (nothing needing refrigeration)\n• Homebrew and/or other beverages\n• Your equipment and ingredients to brew. This is optional but hope you will. Keep it simple! \nVolunteers needed for:\n• Bringing and returning the club beer equipment trailer\n• Bringing and returning a few rental tables\n• Ice\n• A couple grills
URL:http://www.lawrencebrewers.org/event/lbg-maifest/
LOCATION:Yankee Tank Brewing\, 807 E. 23rd St.\, Lawrence\, 66046\, United States
CATEGORIES:Event
END:VEVENT
END:VCALENDAR