BEGIN:VCALENDAR
VERSION:2.0
PRODID:-//Lawrence Brewers Guild - ECPv6.15.20//NONSGML v1.0//EN
CALSCALE:GREGORIAN
METHOD:PUBLISH
X-ORIGINAL-URL:https://www.lawrencebrewers.org
X-WR-CALDESC:Events for Lawrence Brewers Guild
REFRESH-INTERVAL;VALUE=DURATION:PT1H
X-Robots-Tag:noindex
X-PUBLISHED-TTL:PT1H
BEGIN:VTIMEZONE
TZID:UTC
BEGIN:STANDARD
TZOFFSETFROM:+0000
TZOFFSETTO:+0000
TZNAME:UTC
DTSTART:20160101T000000
END:STANDARD
END:VTIMEZONE
BEGIN:VEVENT
DTSTART;TZID=UTC:20180201T163000
DTEND;TZID=UTC:20180201T193000
DTSTAMP:20260424T070105
CREATED:20180106T025454Z
LAST-MODIFIED:20180106T025454Z
UID:1449-1517502600-1517513400@www.lawrencebrewers.org
SUMMARY:Monthly Hoppy Hour
DESCRIPTION:Join the LBG for our monthly Hoppy Hour! Blue Moose offers $2.50 microbrews on Thursdays. \nHoppy Hours are the first Thursday of each month and are open to LBG members and friends and those interested in joining the club\, homebrewing and craft beer.
URL:https://www.lawrencebrewers.org/event/monthly-hoppy-hour-9/
LOCATION:Blue Moose Bar & Grill\, 525 Wakarusa Drive\, Suite D\, Lawrence\, KS\, 66049
CATEGORIES:Hoppy Hour
END:VEVENT
BEGIN:VEVENT
DTSTART;TZID=UTC:20180104T163000
DTEND;TZID=UTC:20180104T193000
DTSTAMP:20260424T070105
CREATED:20171207T051538Z
LAST-MODIFIED:20171207T051538Z
UID:1386-1515083400-1515094200@www.lawrencebrewers.org
SUMMARY:Monthly Hoppy Hour
DESCRIPTION:Join the LBG for our monthly Hoppy Hour! HyVee MarketGrille has a daily happy hour where taps are half price and appetizers are half price from 4-6 p.m. We have all the tables in the bar area reserved with overflow in the restaurant. \nHoppy Hours are the first Thursday of each month and are open to LBG members and friends and those interested in joining the club\, homebrewing and craft beer.
URL:https://www.lawrencebrewers.org/event/monthly-hoppy-hour-8/
LOCATION:HyVee MarketGrille\, 3504 Clinton Parkway\, Lawrence
CATEGORIES:Hoppy Hour
END:VEVENT
BEGIN:VEVENT
DTSTART;TZID=UTC:20171102T163000
DTEND;TZID=UTC:20171102T193000
DTSTAMP:20260424T070105
CREATED:20170912T234026Z
LAST-MODIFIED:20171019T022649Z
UID:1250-1509640200-1509651000@www.lawrencebrewers.org
SUMMARY:Monthly Hoppy Hour
DESCRIPTION:Join the LBG for our monthly Hoppy Hour! Come see the new brewery in Lawrence! Grab beer(s) and meet us in the private room area just off the main restaurant. Chat with Head Brewer Sam McClain and plan to take part in a tour of the facility at 5:30 p.m. \nHoppy Hours are the first Thursday of each month and are open to LBG members and friends and those interested in joining the club\, homebrewing and craft beer.
URL:https://www.lawrencebrewers.org/event/monthly-hoppy-hour-7/
LOCATION:Lawrence Beer Co.\, 826 Pennsylvania St.\, Lawrence\, 66044\, United States
CATEGORIES:Hoppy Hour
END:VEVENT
BEGIN:VEVENT
DTSTART;TZID=UTC:20171005T163000
DTEND;TZID=UTC:20171005T193000
DTSTAMP:20260424T070105
CREATED:20170824T212356Z
LAST-MODIFIED:20170824T212356Z
UID:1221-1507221000-1507231800@www.lawrencebrewers.org
SUMMARY:Monthly Hoppy Hour
DESCRIPTION:Hoppy Hours are the first Thursday of each month and are open to LBG members and friends and those interested in joining the club\, homebrewing and craft beer.
URL:https://www.lawrencebrewers.org/event/monthly-hoppy-hour-6/
LOCATION:Leeway Franks\, 935 Iowa St.\, Lawrence\, KS\, 66044\, United States
CATEGORIES:Hoppy Hour
END:VEVENT
BEGIN:VEVENT
DTSTART;TZID=UTC:20170907T163000
DTEND;TZID=UTC:20170907T193000
DTSTAMP:20260424T070105
CREATED:20170712T013716Z
LAST-MODIFIED:20170824T210355Z
UID:1161-1504801800-1504812600@www.lawrencebrewers.org
SUMMARY:Monthly Hoppy Hour
DESCRIPTION:Hoppy Hours are the first Thursday of each month and are open to LBG members and friends and those interested in joining the club\, homebrewing and craft beer. \nLBG members will receive a dollar off all imperial and limited taps from 4:30-6:30 p.m. Don’t forget your membership card! The regular special from 4-7 p.m. is $10 55-ounce pitchers on beers like Copperhead\, 90 Shilling\, Dale’s\, Single Wide\, Boulevard Kolsch and most imports (besides Guinness). Red Lyon Tavern will feature local and regional breweries from Lawrence (Free State\, 23rd Street\, Yankee Tank) and Kansas City (Boulevard\, Kansas City Bier Co.\, Martin City) from 6 p.m. to close for a tap takeover.
URL:https://www.lawrencebrewers.org/event/monthly-hoppy-hour-5/
LOCATION:Red Lyon Tavern\, 944 Massachusetts St.\, Lawrence\, 66044\, United States
CATEGORIES:Hoppy Hour
END:VEVENT
BEGIN:VEVENT
DTSTART;TZID=UTC:20170803T163000
DTEND;TZID=UTC:20170803T183000
DTSTAMP:20260424T070105
CREATED:20170612T201414Z
LAST-MODIFIED:20170612T201414Z
UID:1136-1501777800-1501785000@www.lawrencebrewers.org
SUMMARY:Monthly Hoppy Hour
DESCRIPTION:Hoppy Hours are the first Thursday of each month and are open to LBG members and friends and those interested in joining the club\, homebrewing and craft beer. Attend the August meeting after Hoppy Hour!
URL:https://www.lawrencebrewers.org/event/monthly-hoppy-hour-4/
LOCATION:Free State Brewing Co.\, 636 Massachusetts St.\, Lawrence\, KS\, 66044\, United States
CATEGORIES:Hoppy Hour
END:VEVENT
BEGIN:VEVENT
DTSTART;TZID=UTC:20170706T163000
DTEND;TZID=UTC:20170706T193000
DTSTAMP:20260424T070105
CREATED:20170418T014722Z
LAST-MODIFIED:20170418T014722Z
UID:1042-1499358600-1499369400@www.lawrencebrewers.org
SUMMARY:Monthly Hoppy Hour
DESCRIPTION:Hoppy Hours are the first Thursday of each month and are open to LBG members and friends and those interested in joining the club\, homebrewing and craft beer. Henry T’s/Yankee Tank Brewing is offering a special pint price and half-price appetizers for LBG’ers from 4:30 p.m. to 7:30 p.m. Don’t forget your membership card!
URL:https://www.lawrencebrewers.org/event/monthly-hoppy-hour-3/
LOCATION:Henry T’s\, 3520 W. Sixth St.\, Lawrence\, KS\, 66049\, United States
CATEGORIES:Hoppy Hour
END:VEVENT
BEGIN:VEVENT
DTSTART;TZID=UTC:20170601T163000
DTEND;TZID=UTC:20170601T193000
DTSTAMP:20260424T070105
CREATED:20170411T014301Z
LAST-MODIFIED:20170411T014747Z
UID:1019-1496334600-1496345400@www.lawrencebrewers.org
SUMMARY:Monthly Hoppy Hour
DESCRIPTION:Hoppy Hours are the first Thursday of each month and are open to LBG members and friends and those interested in joining the club\, homebrewing and craft beer. The Burger Stand is offering 15 percent off food to LBG’ers! Don’t forget your membership card! Meet in the Beer Hall.
URL:https://www.lawrencebrewers.org/event/monthly-hoppy-hour-2/
LOCATION:The Burger Stand at the Casbah\, 803 Massachusetts St.\, Lawrence\, KS\, 66044\, United States
CATEGORIES:Hoppy Hour
END:VEVENT
BEGIN:VEVENT
DTSTART;TZID=UTC:20170504T163000
DTEND;TZID=UTC:20170504T193000
DTSTAMP:20260424T070105
CREATED:20170411T014216Z
LAST-MODIFIED:20170411T014648Z
UID:1017-1493915400-1493926200@www.lawrencebrewers.org
SUMMARY:Monthly Hoppy Hour
DESCRIPTION:Hoppy Hours are the first Thursday of each month and are open to LBG members and friends and those interested in joining the club\, homebrewing and craft beer. 23rd Street Brewery is offering $5 flatbreads to LBG’ers! Don’t forget your membership card!
URL:https://www.lawrencebrewers.org/event/monthly-hoppy-hour/
LOCATION:23rd Street Brewery\, 3512 Clinton Parkway\, Lawrence\, KS\, 66047\, United States
CATEGORIES:Hoppy Hour
END:VEVENT
END:VCALENDAR