BEGIN:VCALENDAR
VERSION:2.0
PRODID:-//Lawrence Brewers Guild - ECPv6.15.20//NONSGML v1.0//EN
CALSCALE:GREGORIAN
METHOD:PUBLISH
X-ORIGINAL-URL:https://www.lawrencebrewers.org
X-WR-CALDESC:Events for Lawrence Brewers Guild
REFRESH-INTERVAL;VALUE=DURATION:PT1H
X-Robots-Tag:noindex
X-PUBLISHED-TTL:PT1H
BEGIN:VTIMEZONE
TZID:America/Chicago
BEGIN:DAYLIGHT
TZOFFSETFROM:-0600
TZOFFSETTO:-0500
TZNAME:CDT
DTSTART:20250309T080000
END:DAYLIGHT
BEGIN:STANDARD
TZOFFSETFROM:-0500
TZOFFSETTO:-0600
TZNAME:CST
DTSTART:20251102T070000
END:STANDARD
BEGIN:DAYLIGHT
TZOFFSETFROM:-0600
TZOFFSETTO:-0500
TZNAME:CDT
DTSTART:20260308T080000
END:DAYLIGHT
BEGIN:STANDARD
TZOFFSETFROM:-0500
TZOFFSETTO:-0600
TZNAME:CST
DTSTART:20261101T070000
END:STANDARD
BEGIN:DAYLIGHT
TZOFFSETFROM:-0600
TZOFFSETTO:-0500
TZNAME:CDT
DTSTART:20270314T080000
END:DAYLIGHT
BEGIN:STANDARD
TZOFFSETFROM:-0500
TZOFFSETTO:-0600
TZNAME:CST
DTSTART:20271107T070000
END:STANDARD
END:VTIMEZONE
BEGIN:VEVENT
DTSTART;TZID=America/Chicago:20260514T190000
DTEND;TZID=America/Chicago:20260514T210000
DTSTAMP:20260420T034954
CREATED:20260108T171201Z
LAST-MODIFIED:20260406T213503Z
UID:3841-1778785200-1778792400@www.lawrencebrewers.org
SUMMARY:Monthly Meeting
DESCRIPTION:
URL:https://www.lawrencebrewers.org/event/monthly-meeting-88/
LOCATION:Baker University Wetlands Discovery Center\, 365 N. 1250 Road\, Lawrence\, 66046\, United States
CATEGORIES:Meeting
END:VEVENT
BEGIN:VEVENT
DTSTART;TZID=America/Chicago:20260611T190000
DTEND;TZID=America/Chicago:20260611T210000
DTSTAMP:20260420T034954
CREATED:20260108T171241Z
LAST-MODIFIED:20260406T213527Z
UID:3843-1781204400-1781211600@www.lawrencebrewers.org
SUMMARY:Monthly Meeting
DESCRIPTION:
URL:https://www.lawrencebrewers.org/event/monthly-meeting-89/
LOCATION:Baker University Wetlands Discovery Center\, 365 N. 1250 Road\, Lawrence\, 66046\, United States
CATEGORIES:Meeting
END:VEVENT
BEGIN:VEVENT
DTSTART;TZID=America/Chicago:20260709T190000
DTEND;TZID=America/Chicago:20260709T210000
DTSTAMP:20260420T034954
CREATED:20260108T171320Z
LAST-MODIFIED:20260406T213545Z
UID:3845-1783623600-1783630800@www.lawrencebrewers.org
SUMMARY:Monthly Meeting
DESCRIPTION:
URL:https://www.lawrencebrewers.org/event/monthly-meeting-90/
LOCATION:Baker University Wetlands Discovery Center\, 365 N. 1250 Road\, Lawrence\, 66046\, United States
CATEGORIES:Meeting
END:VEVENT
BEGIN:VEVENT
DTSTART;TZID=America/Chicago:20260813T190000
DTEND;TZID=America/Chicago:20260813T210000
DTSTAMP:20260420T034954
CREATED:20260108T171407Z
LAST-MODIFIED:20260406T213613Z
UID:3847-1786647600-1786654800@www.lawrencebrewers.org
SUMMARY:Monthly Meeting
DESCRIPTION:
URL:https://www.lawrencebrewers.org/event/monthly-meeting-91/
LOCATION:Baker University Wetlands Discovery Center\, 365 N. 1250 Road\, Lawrence\, 66046\, United States
CATEGORIES:Meeting
END:VEVENT
BEGIN:VEVENT
DTSTART;TZID=America/Chicago:20260910T190000
DTEND;TZID=America/Chicago:20260910T210000
DTSTAMP:20260420T034954
CREATED:20260108T171530Z
LAST-MODIFIED:20260406T213630Z
UID:3852-1789066800-1789074000@www.lawrencebrewers.org
SUMMARY:Monthly Meeting
DESCRIPTION:
URL:https://www.lawrencebrewers.org/event/monthly-meeting-93/
LOCATION:Baker University Wetlands Discovery Center\, 365 N. 1250 Road\, Lawrence\, 66046\, United States
CATEGORIES:Meeting
END:VEVENT
BEGIN:VEVENT
DTSTART;TZID=America/Chicago:20261008T190000
DTEND;TZID=America/Chicago:20261008T210000
DTSTAMP:20260420T034954
CREATED:20260108T171614Z
LAST-MODIFIED:20260406T213647Z
UID:3854-1791486000-1791493200@www.lawrencebrewers.org
SUMMARY:Monthly Meeting
DESCRIPTION:
URL:https://www.lawrencebrewers.org/event/monthly-meeting-94/
LOCATION:Baker University Wetlands Discovery Center\, 365 N. 1250 Road\, Lawrence\, 66046\, United States
CATEGORIES:Meeting
END:VEVENT
BEGIN:VEVENT
DTSTART;TZID=America/Chicago:20261112T190000
DTEND;TZID=America/Chicago:20261112T210000
DTSTAMP:20260420T034954
CREATED:20260108T171707Z
LAST-MODIFIED:20260406T213707Z
UID:3856-1794510000-1794517200@www.lawrencebrewers.org
SUMMARY:Monthly Meeting
DESCRIPTION:
URL:https://www.lawrencebrewers.org/event/monthly-meeting-95/
LOCATION:Baker University Wetlands Discovery Center\, 365 N. 1250 Road\, Lawrence\, 66046\, United States
CATEGORIES:Meeting
END:VEVENT
END:VCALENDAR